BEGIN:VCALENDAR
VERSION:2.0
PRODID:-//RI Demolay - ECPv6.14.2//NONSGML v1.0//EN
CALSCALE:GREGORIAN
METHOD:PUBLISH
X-WR-CALNAME:RI Demolay
X-ORIGINAL-URL:https://wp.ridemolay.org
X-WR-CALDESC:Events for RI Demolay
REFRESH-INTERVAL;VALUE=DURATION:PT1H
X-Robots-Tag:noindex
X-PUBLISHED-TTL:PT1H
BEGIN:VTIMEZONE
TZID:UTC
BEGIN:STANDARD
TZOFFSETFROM:+0000
TZOFFSETTO:+0000
TZNAME:UTC
DTSTART:20260101T000000
END:STANDARD
END:VTIMEZONE
BEGIN:VEVENT
DTSTART;TZID=UTC:20260424T190000
DTEND;TZID=UTC:20260424T210000
DTSTAMP:20260421T144046
CREATED:20230929T125809Z
LAST-MODIFIED:20230929T125809Z
UID:10000036-1777057200-1777064400@wp.ridemolay.org
SUMMARY:Fidelity Chapter Regular Meeting
DESCRIPTION:
URL:https://wp.ridemolay.org/event/fidelity-chapter-regular-meeting/2026-04-24/
LOCATION:Doric Masonic Center\, 1237 Reservoir Ave\, Cranston\, 02920\, United States
END:VEVENT
BEGIN:VEVENT
DTSTART;TZID=UTC:20260522T190000
DTEND;TZID=UTC:20260522T210000
DTSTAMP:20260421T144046
CREATED:20230929T125809Z
LAST-MODIFIED:20230929T125809Z
UID:10000037-1779476400-1779483600@wp.ridemolay.org
SUMMARY:Fidelity Chapter Regular Meeting
DESCRIPTION:
URL:https://wp.ridemolay.org/event/fidelity-chapter-regular-meeting/2026-05-22/
LOCATION:Doric Masonic Center\, 1237 Reservoir Ave\, Cranston\, 02920\, United States
END:VEVENT
BEGIN:VEVENT
DTSTART;TZID=UTC:20260626T190000
DTEND;TZID=UTC:20260626T210000
DTSTAMP:20260421T144046
CREATED:20230929T125809Z
LAST-MODIFIED:20230929T125809Z
UID:10000038-1782500400-1782507600@wp.ridemolay.org
SUMMARY:Fidelity Chapter Regular Meeting
DESCRIPTION:
URL:https://wp.ridemolay.org/event/fidelity-chapter-regular-meeting/2026-06-26/
LOCATION:Doric Masonic Center\, 1237 Reservoir Ave\, Cranston\, 02920\, United States
END:VEVENT
BEGIN:VEVENT
DTSTART;TZID=UTC:20260724T190000
DTEND;TZID=UTC:20260724T210000
DTSTAMP:20260421T144046
CREATED:20230929T125809Z
LAST-MODIFIED:20230929T125809Z
UID:10000039-1784919600-1784926800@wp.ridemolay.org
SUMMARY:Fidelity Chapter Regular Meeting
DESCRIPTION:
URL:https://wp.ridemolay.org/event/fidelity-chapter-regular-meeting/2026-07-24/
LOCATION:Doric Masonic Center\, 1237 Reservoir Ave\, Cranston\, 02920\, United States
END:VEVENT
BEGIN:VEVENT
DTSTART;TZID=UTC:20260828T190000
DTEND;TZID=UTC:20260828T210000
DTSTAMP:20260421T144046
CREATED:20230929T125809Z
LAST-MODIFIED:20230929T125809Z
UID:10000040-1787943600-1787950800@wp.ridemolay.org
SUMMARY:Fidelity Chapter Regular Meeting
DESCRIPTION:
URL:https://wp.ridemolay.org/event/fidelity-chapter-regular-meeting/2026-08-28/
LOCATION:Doric Masonic Center\, 1237 Reservoir Ave\, Cranston\, 02920\, United States
END:VEVENT
BEGIN:VEVENT
DTSTART;TZID=UTC:20260925T190000
DTEND;TZID=UTC:20260925T210000
DTSTAMP:20260421T144046
CREATED:20230929T125809Z
LAST-MODIFIED:20230929T125809Z
UID:10000041-1790362800-1790370000@wp.ridemolay.org
SUMMARY:Fidelity Chapter Regular Meeting
DESCRIPTION:
URL:https://wp.ridemolay.org/event/fidelity-chapter-regular-meeting/2026-09-25/
LOCATION:Doric Masonic Center\, 1237 Reservoir Ave\, Cranston\, 02920\, United States
END:VEVENT
BEGIN:VEVENT
DTSTART;TZID=UTC:20261023T190000
DTEND;TZID=UTC:20261023T210000
DTSTAMP:20260421T144046
CREATED:20230929T125809Z
LAST-MODIFIED:20230929T125809Z
UID:10000042-1792782000-1792789200@wp.ridemolay.org
SUMMARY:Fidelity Chapter Regular Meeting
DESCRIPTION:
URL:https://wp.ridemolay.org/event/fidelity-chapter-regular-meeting/2026-10-23/
LOCATION:Doric Masonic Center\, 1237 Reservoir Ave\, Cranston\, 02920\, United States
END:VEVENT
BEGIN:VEVENT
DTSTART;TZID=UTC:20261127T190000
DTEND;TZID=UTC:20261127T210000
DTSTAMP:20260421T144046
CREATED:20230929T125809Z
LAST-MODIFIED:20230929T125809Z
UID:10000043-1795806000-1795813200@wp.ridemolay.org
SUMMARY:Fidelity Chapter Regular Meeting
DESCRIPTION:
URL:https://wp.ridemolay.org/event/fidelity-chapter-regular-meeting/2026-11-27/
LOCATION:Doric Masonic Center\, 1237 Reservoir Ave\, Cranston\, 02920\, United States
END:VEVENT
BEGIN:VEVENT
DTSTART;TZID=UTC:20261225T190000
DTEND;TZID=UTC:20261225T210000
DTSTAMP:20260421T144046
CREATED:20230929T125809Z
LAST-MODIFIED:20230929T125809Z
UID:10000044-1798225200-1798232400@wp.ridemolay.org
SUMMARY:Fidelity Chapter Regular Meeting
DESCRIPTION:
URL:https://wp.ridemolay.org/event/fidelity-chapter-regular-meeting/2026-12-25/
LOCATION:Doric Masonic Center\, 1237 Reservoir Ave\, Cranston\, 02920\, United States
END:VEVENT
BEGIN:VEVENT
DTSTART;TZID=UTC:20270122T190000
DTEND;TZID=UTC:20270122T210000
DTSTAMP:20260421T144046
CREATED:20230929T125809Z
LAST-MODIFIED:20230929T125809Z
UID:10000045-1800644400-1800651600@wp.ridemolay.org
SUMMARY:Fidelity Chapter Regular Meeting
DESCRIPTION:
URL:https://wp.ridemolay.org/event/fidelity-chapter-regular-meeting/2027-01-22/
LOCATION:Doric Masonic Center\, 1237 Reservoir Ave\, Cranston\, 02920\, United States
END:VEVENT
BEGIN:VEVENT
DTSTART;TZID=UTC:20270226T190000
DTEND;TZID=UTC:20270226T210000
DTSTAMP:20260421T144046
CREATED:20230929T125809Z
LAST-MODIFIED:20230929T125809Z
UID:10000046-1803668400-1803675600@wp.ridemolay.org
SUMMARY:Fidelity Chapter Regular Meeting
DESCRIPTION:
URL:https://wp.ridemolay.org/event/fidelity-chapter-regular-meeting/2027-02-26/
LOCATION:Doric Masonic Center\, 1237 Reservoir Ave\, Cranston\, 02920\, United States
END:VEVENT
BEGIN:VEVENT
DTSTART;TZID=UTC:20270326T190000
DTEND;TZID=UTC:20270326T210000
DTSTAMP:20260421T144046
CREATED:20230929T125809Z
LAST-MODIFIED:20230929T125809Z
UID:10000047-1806087600-1806094800@wp.ridemolay.org
SUMMARY:Fidelity Chapter Regular Meeting
DESCRIPTION:
URL:https://wp.ridemolay.org/event/fidelity-chapter-regular-meeting/2027-03-26/
LOCATION:Doric Masonic Center\, 1237 Reservoir Ave\, Cranston\, 02920\, United States
END:VEVENT
BEGIN:VEVENT
DTSTART;TZID=UTC:20270423T190000
DTEND;TZID=UTC:20270423T210000
DTSTAMP:20260421T144046
CREATED:20230929T125809Z
LAST-MODIFIED:20230929T125809Z
UID:10000048-1808506800-1808514000@wp.ridemolay.org
SUMMARY:Fidelity Chapter Regular Meeting
DESCRIPTION:
URL:https://wp.ridemolay.org/event/fidelity-chapter-regular-meeting/2027-04-23/
LOCATION:Doric Masonic Center\, 1237 Reservoir Ave\, Cranston\, 02920\, United States
END:VEVENT
BEGIN:VEVENT
DTSTART;TZID=UTC:20270528T190000
DTEND;TZID=UTC:20270528T210000
DTSTAMP:20260421T144046
CREATED:20230929T125809Z
LAST-MODIFIED:20230929T125809Z
UID:10000049-1811530800-1811538000@wp.ridemolay.org
SUMMARY:Fidelity Chapter Regular Meeting
DESCRIPTION:
URL:https://wp.ridemolay.org/event/fidelity-chapter-regular-meeting/2027-05-28/
LOCATION:Doric Masonic Center\, 1237 Reservoir Ave\, Cranston\, 02920\, United States
END:VEVENT
BEGIN:VEVENT
DTSTART;TZID=UTC:20270625T190000
DTEND;TZID=UTC:20270625T210000
DTSTAMP:20260421T144046
CREATED:20230929T125809Z
LAST-MODIFIED:20230929T125809Z
UID:10000050-1813950000-1813957200@wp.ridemolay.org
SUMMARY:Fidelity Chapter Regular Meeting
DESCRIPTION:
URL:https://wp.ridemolay.org/event/fidelity-chapter-regular-meeting/2027-06-25/
LOCATION:Doric Masonic Center\, 1237 Reservoir Ave\, Cranston\, 02920\, United States
END:VEVENT
BEGIN:VEVENT
DTSTART;TZID=UTC:20270723T190000
DTEND;TZID=UTC:20270723T210000
DTSTAMP:20260421T144046
CREATED:20230929T125809Z
LAST-MODIFIED:20230929T125809Z
UID:10000051-1816369200-1816376400@wp.ridemolay.org
SUMMARY:Fidelity Chapter Regular Meeting
DESCRIPTION:
URL:https://wp.ridemolay.org/event/fidelity-chapter-regular-meeting/2027-07-23/
LOCATION:Doric Masonic Center\, 1237 Reservoir Ave\, Cranston\, 02920\, United States
END:VEVENT
BEGIN:VEVENT
DTSTART;TZID=UTC:20270827T190000
DTEND;TZID=UTC:20270827T210000
DTSTAMP:20260421T144046
CREATED:20230929T125809Z
LAST-MODIFIED:20230929T125809Z
UID:10000052-1819393200-1819400400@wp.ridemolay.org
SUMMARY:Fidelity Chapter Regular Meeting
DESCRIPTION:
URL:https://wp.ridemolay.org/event/fidelity-chapter-regular-meeting/2027-08-27/
LOCATION:Doric Masonic Center\, 1237 Reservoir Ave\, Cranston\, 02920\, United States
END:VEVENT
BEGIN:VEVENT
DTSTART;TZID=UTC:20270924T190000
DTEND;TZID=UTC:20270924T210000
DTSTAMP:20260421T144046
CREATED:20230929T125809Z
LAST-MODIFIED:20230929T125809Z
UID:10000053-1821812400-1821819600@wp.ridemolay.org
SUMMARY:Fidelity Chapter Regular Meeting
DESCRIPTION:
URL:https://wp.ridemolay.org/event/fidelity-chapter-regular-meeting/2027-09-24/
LOCATION:Doric Masonic Center\, 1237 Reservoir Ave\, Cranston\, 02920\, United States
END:VEVENT
BEGIN:VEVENT
DTSTART;TZID=UTC:20271022T190000
DTEND;TZID=UTC:20271022T210000
DTSTAMP:20260421T144046
CREATED:20230929T125809Z
LAST-MODIFIED:20230929T125809Z
UID:10000054-1824231600-1824238800@wp.ridemolay.org
SUMMARY:Fidelity Chapter Regular Meeting
DESCRIPTION:
URL:https://wp.ridemolay.org/event/fidelity-chapter-regular-meeting/2027-10-22/
LOCATION:Doric Masonic Center\, 1237 Reservoir Ave\, Cranston\, 02920\, United States
END:VEVENT
BEGIN:VEVENT
DTSTART;TZID=UTC:20271126T190000
DTEND;TZID=UTC:20271126T210000
DTSTAMP:20260421T144046
CREATED:20230929T125809Z
LAST-MODIFIED:20230929T125809Z
UID:10000055-1827255600-1827262800@wp.ridemolay.org
SUMMARY:Fidelity Chapter Regular Meeting
DESCRIPTION:
URL:https://wp.ridemolay.org/event/fidelity-chapter-regular-meeting/2027-11-26/
LOCATION:Doric Masonic Center\, 1237 Reservoir Ave\, Cranston\, 02920\, United States
END:VEVENT
BEGIN:VEVENT
DTSTART;TZID=UTC:20271224T190000
DTEND;TZID=UTC:20271224T210000
DTSTAMP:20260421T144046
CREATED:20230929T125809Z
LAST-MODIFIED:20230929T125809Z
UID:10000056-1829674800-1829682000@wp.ridemolay.org
SUMMARY:Fidelity Chapter Regular Meeting
DESCRIPTION:
URL:https://wp.ridemolay.org/event/fidelity-chapter-regular-meeting/2027-12-24/
LOCATION:Doric Masonic Center\, 1237 Reservoir Ave\, Cranston\, 02920\, United States
END:VEVENT
BEGIN:VEVENT
DTSTART;TZID=UTC:20280128T190000
DTEND;TZID=UTC:20280128T210000
DTSTAMP:20260421T144046
CREATED:20230929T125809Z
LAST-MODIFIED:20230929T125809Z
UID:10000057-1832698800-1832706000@wp.ridemolay.org
SUMMARY:Fidelity Chapter Regular Meeting
DESCRIPTION:
URL:https://wp.ridemolay.org/event/fidelity-chapter-regular-meeting/2028-01-28/
LOCATION:Doric Masonic Center\, 1237 Reservoir Ave\, Cranston\, 02920\, United States
END:VEVENT
BEGIN:VEVENT
DTSTART;TZID=UTC:20280225T190000
DTEND;TZID=UTC:20280225T210000
DTSTAMP:20260421T144046
CREATED:20230929T125809Z
LAST-MODIFIED:20230929T125809Z
UID:10000058-1835118000-1835125200@wp.ridemolay.org
SUMMARY:Fidelity Chapter Regular Meeting
DESCRIPTION:
URL:https://wp.ridemolay.org/event/fidelity-chapter-regular-meeting/2028-02-25/
LOCATION:Doric Masonic Center\, 1237 Reservoir Ave\, Cranston\, 02920\, United States
END:VEVENT
BEGIN:VEVENT
DTSTART;TZID=UTC:20280324T190000
DTEND;TZID=UTC:20280324T210000
DTSTAMP:20260421T144046
CREATED:20230929T125809Z
LAST-MODIFIED:20230929T125809Z
UID:10000059-1837537200-1837544400@wp.ridemolay.org
SUMMARY:Fidelity Chapter Regular Meeting
DESCRIPTION:
URL:https://wp.ridemolay.org/event/fidelity-chapter-regular-meeting/2028-03-24/
LOCATION:Doric Masonic Center\, 1237 Reservoir Ave\, Cranston\, 02920\, United States
END:VEVENT
BEGIN:VEVENT
DTSTART;TZID=UTC:20280428T190000
DTEND;TZID=UTC:20280428T210000
DTSTAMP:20260421T144046
CREATED:20230929T125809Z
LAST-MODIFIED:20230929T125809Z
UID:10000060-1840561200-1840568400@wp.ridemolay.org
SUMMARY:Fidelity Chapter Regular Meeting
DESCRIPTION:
URL:https://wp.ridemolay.org/event/fidelity-chapter-regular-meeting/2028-04-28/
LOCATION:Doric Masonic Center\, 1237 Reservoir Ave\, Cranston\, 02920\, United States
END:VEVENT
BEGIN:VEVENT
DTSTART;TZID=UTC:20280526T190000
DTEND;TZID=UTC:20280526T210000
DTSTAMP:20260421T144046
CREATED:20230929T125809Z
LAST-MODIFIED:20230929T125809Z
UID:10000061-1842980400-1842987600@wp.ridemolay.org
SUMMARY:Fidelity Chapter Regular Meeting
DESCRIPTION:
URL:https://wp.ridemolay.org/event/fidelity-chapter-regular-meeting/2028-05-26/
LOCATION:Doric Masonic Center\, 1237 Reservoir Ave\, Cranston\, 02920\, United States
END:VEVENT
BEGIN:VEVENT
DTSTART;TZID=UTC:20280623T190000
DTEND;TZID=UTC:20280623T210000
DTSTAMP:20260421T144046
CREATED:20230929T125809Z
LAST-MODIFIED:20230929T125809Z
UID:10000062-1845399600-1845406800@wp.ridemolay.org
SUMMARY:Fidelity Chapter Regular Meeting
DESCRIPTION:
URL:https://wp.ridemolay.org/event/fidelity-chapter-regular-meeting/2028-06-23/
LOCATION:Doric Masonic Center\, 1237 Reservoir Ave\, Cranston\, 02920\, United States
END:VEVENT
BEGIN:VEVENT
DTSTART;TZID=UTC:20280728T190000
DTEND;TZID=UTC:20280728T210000
DTSTAMP:20260421T144046
CREATED:20230929T125809Z
LAST-MODIFIED:20230929T125809Z
UID:10000063-1848423600-1848430800@wp.ridemolay.org
SUMMARY:Fidelity Chapter Regular Meeting
DESCRIPTION:
URL:https://wp.ridemolay.org/event/fidelity-chapter-regular-meeting/2028-07-28/
LOCATION:Doric Masonic Center\, 1237 Reservoir Ave\, Cranston\, 02920\, United States
END:VEVENT
BEGIN:VEVENT
DTSTART;TZID=UTC:20280825T190000
DTEND;TZID=UTC:20280825T210000
DTSTAMP:20260421T144046
CREATED:20230929T125809Z
LAST-MODIFIED:20230929T125809Z
UID:10000064-1850842800-1850850000@wp.ridemolay.org
SUMMARY:Fidelity Chapter Regular Meeting
DESCRIPTION:
URL:https://wp.ridemolay.org/event/fidelity-chapter-regular-meeting/2028-08-25/
LOCATION:Doric Masonic Center\, 1237 Reservoir Ave\, Cranston\, 02920\, United States
END:VEVENT
BEGIN:VEVENT
DTSTART;TZID=UTC:20280922T190000
DTEND;TZID=UTC:20280922T210000
DTSTAMP:20260421T144046
CREATED:20230929T125809Z
LAST-MODIFIED:20230929T125809Z
UID:10000065-1853262000-1853269200@wp.ridemolay.org
SUMMARY:Fidelity Chapter Regular Meeting
DESCRIPTION:
URL:https://wp.ridemolay.org/event/fidelity-chapter-regular-meeting/2028-09-22/
LOCATION:Doric Masonic Center\, 1237 Reservoir Ave\, Cranston\, 02920\, United States
END:VEVENT
END:VCALENDAR