BEGIN:VCALENDAR
VERSION:2.0
PRODID:-//RI Demolay - ECPv6.14.2//NONSGML v1.0//EN
CALSCALE:GREGORIAN
METHOD:PUBLISH
X-WR-CALNAME:RI Demolay
X-ORIGINAL-URL:https://wp.ridemolay.org
X-WR-CALDESC:Events for RI Demolay
REFRESH-INTERVAL;VALUE=DURATION:PT1H
X-Robots-Tag:noindex
X-PUBLISHED-TTL:PT1H
BEGIN:VTIMEZONE
TZID:UTC
BEGIN:STANDARD
TZOFFSETFROM:+0000
TZOFFSETTO:+0000
TZNAME:UTC
DTSTART:20230101T000000
END:STANDARD
END:VTIMEZONE
BEGIN:VEVENT
DTSTART;TZID=UTC:20260327T190000
DTEND;TZID=UTC:20260327T210000
DTSTAMP:20260421T160635
CREATED:20230929T125809Z
LAST-MODIFIED:20230929T125809Z
UID:10000035-1774638000-1774645200@wp.ridemolay.org
SUMMARY:Fidelity Chapter Regular Meeting
DESCRIPTION:
URL:https://wp.ridemolay.org/event/fidelity-chapter-regular-meeting/2026-03-27/
LOCATION:Doric Masonic Center\, 1237 Reservoir Ave\, Cranston\, 02920\, United States
END:VEVENT
BEGIN:VEVENT
DTSTART;TZID=UTC:20260227T190000
DTEND;TZID=UTC:20260227T210000
DTSTAMP:20260421T160635
CREATED:20230929T125809Z
LAST-MODIFIED:20230929T125809Z
UID:10000034-1772218800-1772226000@wp.ridemolay.org
SUMMARY:Fidelity Chapter Regular Meeting
DESCRIPTION:
URL:https://wp.ridemolay.org/event/fidelity-chapter-regular-meeting/2026-02-27/
LOCATION:Doric Masonic Center\, 1237 Reservoir Ave\, Cranston\, 02920\, United States
END:VEVENT
BEGIN:VEVENT
DTSTART;TZID=UTC:20260123T190000
DTEND;TZID=UTC:20260123T210000
DTSTAMP:20260421T160635
CREATED:20230929T125809Z
LAST-MODIFIED:20230929T125809Z
UID:10000033-1769194800-1769202000@wp.ridemolay.org
SUMMARY:Fidelity Chapter Regular Meeting
DESCRIPTION:
URL:https://wp.ridemolay.org/event/fidelity-chapter-regular-meeting/2026-01-23/
LOCATION:Doric Masonic Center\, 1237 Reservoir Ave\, Cranston\, 02920\, United States
END:VEVENT
BEGIN:VEVENT
DTSTART;TZID=UTC:20251226T190000
DTEND;TZID=UTC:20251226T210000
DTSTAMP:20260421T160635
CREATED:20230929T125809Z
LAST-MODIFIED:20230929T125809Z
UID:10000032-1766775600-1766782800@wp.ridemolay.org
SUMMARY:Fidelity Chapter Regular Meeting
DESCRIPTION:
URL:https://wp.ridemolay.org/event/fidelity-chapter-regular-meeting/2025-12-26/
LOCATION:Doric Masonic Center\, 1237 Reservoir Ave\, Cranston\, 02920\, United States
END:VEVENT
BEGIN:VEVENT
DTSTART;TZID=UTC:20251128T190000
DTEND;TZID=UTC:20251128T210000
DTSTAMP:20260421T160635
CREATED:20230929T125809Z
LAST-MODIFIED:20230929T125809Z
UID:10000031-1764356400-1764363600@wp.ridemolay.org
SUMMARY:Fidelity Chapter Regular Meeting
DESCRIPTION:
URL:https://wp.ridemolay.org/event/fidelity-chapter-regular-meeting/2025-11-28/
LOCATION:Doric Masonic Center\, 1237 Reservoir Ave\, Cranston\, 02920\, United States
END:VEVENT
BEGIN:VEVENT
DTSTART;TZID=UTC:20251024T190000
DTEND;TZID=UTC:20251024T210000
DTSTAMP:20260421T160635
CREATED:20230929T125809Z
LAST-MODIFIED:20230929T125809Z
UID:10000030-1761332400-1761339600@wp.ridemolay.org
SUMMARY:Fidelity Chapter Regular Meeting
DESCRIPTION:
URL:https://wp.ridemolay.org/event/fidelity-chapter-regular-meeting/2025-10-24/
LOCATION:Doric Masonic Center\, 1237 Reservoir Ave\, Cranston\, 02920\, United States
END:VEVENT
BEGIN:VEVENT
DTSTART;TZID=UTC:20250926T190000
DTEND;TZID=UTC:20250926T210000
DTSTAMP:20260421T160635
CREATED:20230929T125809Z
LAST-MODIFIED:20230929T125809Z
UID:10000029-1758913200-1758920400@wp.ridemolay.org
SUMMARY:Fidelity Chapter Regular Meeting
DESCRIPTION:
URL:https://wp.ridemolay.org/event/fidelity-chapter-regular-meeting/2025-09-26/
LOCATION:Doric Masonic Center\, 1237 Reservoir Ave\, Cranston\, 02920\, United States
END:VEVENT
BEGIN:VEVENT
DTSTART;TZID=UTC:20250822T190000
DTEND;TZID=UTC:20250822T210000
DTSTAMP:20260421T160635
CREATED:20230929T125809Z
LAST-MODIFIED:20230929T125809Z
UID:10000028-1755889200-1755896400@wp.ridemolay.org
SUMMARY:Fidelity Chapter Regular Meeting
DESCRIPTION:
URL:https://wp.ridemolay.org/event/fidelity-chapter-regular-meeting/2025-08-22/
LOCATION:Doric Masonic Center\, 1237 Reservoir Ave\, Cranston\, 02920\, United States
END:VEVENT
BEGIN:VEVENT
DTSTART;TZID=UTC:20250725T190000
DTEND;TZID=UTC:20250725T210000
DTSTAMP:20260421T160635
CREATED:20230929T125809Z
LAST-MODIFIED:20230929T125809Z
UID:10000027-1753470000-1753477200@wp.ridemolay.org
SUMMARY:Fidelity Chapter Regular Meeting
DESCRIPTION:
URL:https://wp.ridemolay.org/event/fidelity-chapter-regular-meeting/2025-07-25/
LOCATION:Doric Masonic Center\, 1237 Reservoir Ave\, Cranston\, 02920\, United States
END:VEVENT
BEGIN:VEVENT
DTSTART;TZID=UTC:20250627T190000
DTEND;TZID=UTC:20250627T210000
DTSTAMP:20260421T160635
CREATED:20230929T125809Z
LAST-MODIFIED:20230929T125809Z
UID:10000026-1751050800-1751058000@wp.ridemolay.org
SUMMARY:Fidelity Chapter Regular Meeting
DESCRIPTION:
URL:https://wp.ridemolay.org/event/fidelity-chapter-regular-meeting/2025-06-27/
LOCATION:Doric Masonic Center\, 1237 Reservoir Ave\, Cranston\, 02920\, United States
END:VEVENT
BEGIN:VEVENT
DTSTART;TZID=UTC:20250523T190000
DTEND;TZID=UTC:20250523T210000
DTSTAMP:20260421T160635
CREATED:20230929T125809Z
LAST-MODIFIED:20230929T125809Z
UID:10000025-1748026800-1748034000@wp.ridemolay.org
SUMMARY:Fidelity Chapter Regular Meeting
DESCRIPTION:
URL:https://wp.ridemolay.org/event/fidelity-chapter-regular-meeting/2025-05-23/
LOCATION:Doric Masonic Center\, 1237 Reservoir Ave\, Cranston\, 02920\, United States
END:VEVENT
BEGIN:VEVENT
DTSTART;TZID=UTC:20250425T190000
DTEND;TZID=UTC:20250425T210000
DTSTAMP:20260421T160635
CREATED:20230929T125809Z
LAST-MODIFIED:20230929T125809Z
UID:10000024-1745607600-1745614800@wp.ridemolay.org
SUMMARY:Fidelity Chapter Regular Meeting
DESCRIPTION:
URL:https://wp.ridemolay.org/event/fidelity-chapter-regular-meeting/2025-04-25/
LOCATION:Doric Masonic Center\, 1237 Reservoir Ave\, Cranston\, 02920\, United States
END:VEVENT
BEGIN:VEVENT
DTSTART;TZID=UTC:20250328T190000
DTEND;TZID=UTC:20250328T210000
DTSTAMP:20260421T160635
CREATED:20230929T125809Z
LAST-MODIFIED:20230929T125809Z
UID:10000023-1743188400-1743195600@wp.ridemolay.org
SUMMARY:Fidelity Chapter Regular Meeting
DESCRIPTION:
URL:https://wp.ridemolay.org/event/fidelity-chapter-regular-meeting/2025-03-28/
LOCATION:Doric Masonic Center\, 1237 Reservoir Ave\, Cranston\, 02920\, United States
END:VEVENT
BEGIN:VEVENT
DTSTART;TZID=UTC:20250228T190000
DTEND;TZID=UTC:20250228T210000
DTSTAMP:20260421T160635
CREATED:20230929T125809Z
LAST-MODIFIED:20230929T125809Z
UID:10000022-1740769200-1740776400@wp.ridemolay.org
SUMMARY:Fidelity Chapter Regular Meeting
DESCRIPTION:
URL:https://wp.ridemolay.org/event/fidelity-chapter-regular-meeting/2025-02-28/
LOCATION:Doric Masonic Center\, 1237 Reservoir Ave\, Cranston\, 02920\, United States
END:VEVENT
BEGIN:VEVENT
DTSTART;TZID=UTC:20250124T190000
DTEND;TZID=UTC:20250124T210000
DTSTAMP:20260421T160635
CREATED:20230929T125809Z
LAST-MODIFIED:20230929T125809Z
UID:10000021-1737745200-1737752400@wp.ridemolay.org
SUMMARY:Fidelity Chapter Regular Meeting
DESCRIPTION:
URL:https://wp.ridemolay.org/event/fidelity-chapter-regular-meeting/2025-01-24/
LOCATION:Doric Masonic Center\, 1237 Reservoir Ave\, Cranston\, 02920\, United States
END:VEVENT
BEGIN:VEVENT
DTSTART;TZID=UTC:20241227T190000
DTEND;TZID=UTC:20241227T210000
DTSTAMP:20260421T160635
CREATED:20230929T125809Z
LAST-MODIFIED:20230929T125809Z
UID:10000020-1735326000-1735333200@wp.ridemolay.org
SUMMARY:Fidelity Chapter Regular Meeting
DESCRIPTION:
URL:https://wp.ridemolay.org/event/fidelity-chapter-regular-meeting/2024-12-27/
LOCATION:Doric Masonic Center\, 1237 Reservoir Ave\, Cranston\, 02920\, United States
END:VEVENT
BEGIN:VEVENT
DTSTART;TZID=UTC:20241122T190000
DTEND;TZID=UTC:20241122T210000
DTSTAMP:20260421T160635
CREATED:20230929T125809Z
LAST-MODIFIED:20230929T125809Z
UID:10000019-1732302000-1732309200@wp.ridemolay.org
SUMMARY:Fidelity Chapter Regular Meeting
DESCRIPTION:
URL:https://wp.ridemolay.org/event/fidelity-chapter-regular-meeting/2024-11-22/
LOCATION:Doric Masonic Center\, 1237 Reservoir Ave\, Cranston\, 02920\, United States
END:VEVENT
BEGIN:VEVENT
DTSTART;TZID=UTC:20241025T190000
DTEND;TZID=UTC:20241025T210000
DTSTAMP:20260421T160635
CREATED:20230929T125809Z
LAST-MODIFIED:20230929T125809Z
UID:10000018-1729882800-1729890000@wp.ridemolay.org
SUMMARY:Fidelity Chapter Regular Meeting
DESCRIPTION:
URL:https://wp.ridemolay.org/event/fidelity-chapter-regular-meeting/2024-10-25/
LOCATION:Doric Masonic Center\, 1237 Reservoir Ave\, Cranston\, 02920\, United States
END:VEVENT
BEGIN:VEVENT
DTSTART;TZID=UTC:20240927T190000
DTEND;TZID=UTC:20240927T210000
DTSTAMP:20260421T160635
CREATED:20230929T125809Z
LAST-MODIFIED:20230929T125809Z
UID:10000017-1727463600-1727470800@wp.ridemolay.org
SUMMARY:Fidelity Chapter Regular Meeting
DESCRIPTION:
URL:https://wp.ridemolay.org/event/fidelity-chapter-regular-meeting/2024-09-27/
LOCATION:Doric Masonic Center\, 1237 Reservoir Ave\, Cranston\, 02920\, United States
END:VEVENT
BEGIN:VEVENT
DTSTART;TZID=UTC:20240823T190000
DTEND;TZID=UTC:20240823T210000
DTSTAMP:20260421T160635
CREATED:20230929T125809Z
LAST-MODIFIED:20230929T125809Z
UID:10000016-1724439600-1724446800@wp.ridemolay.org
SUMMARY:Fidelity Chapter Regular Meeting
DESCRIPTION:
URL:https://wp.ridemolay.org/event/fidelity-chapter-regular-meeting/2024-08-23/
LOCATION:Doric Masonic Center\, 1237 Reservoir Ave\, Cranston\, 02920\, United States
END:VEVENT
BEGIN:VEVENT
DTSTART;TZID=UTC:20240726T190000
DTEND;TZID=UTC:20240726T210000
DTSTAMP:20260421T160635
CREATED:20230929T125809Z
LAST-MODIFIED:20230929T125809Z
UID:10000015-1722020400-1722027600@wp.ridemolay.org
SUMMARY:Fidelity Chapter Regular Meeting
DESCRIPTION:
URL:https://wp.ridemolay.org/event/fidelity-chapter-regular-meeting/2024-07-26/
LOCATION:Doric Masonic Center\, 1237 Reservoir Ave\, Cranston\, 02920\, United States
END:VEVENT
BEGIN:VEVENT
DTSTART;TZID=UTC:20240628T190000
DTEND;TZID=UTC:20240628T210000
DTSTAMP:20260421T160635
CREATED:20230929T125809Z
LAST-MODIFIED:20230929T125809Z
UID:10000014-1719601200-1719608400@wp.ridemolay.org
SUMMARY:Fidelity Chapter Regular Meeting
DESCRIPTION:
URL:https://wp.ridemolay.org/event/fidelity-chapter-regular-meeting/2024-06-28/
LOCATION:Doric Masonic Center\, 1237 Reservoir Ave\, Cranston\, 02920\, United States
END:VEVENT
BEGIN:VEVENT
DTSTART;TZID=UTC:20240524T190000
DTEND;TZID=UTC:20240524T210000
DTSTAMP:20260421T160635
CREATED:20230929T125809Z
LAST-MODIFIED:20230929T125809Z
UID:10000013-1716577200-1716584400@wp.ridemolay.org
SUMMARY:Fidelity Chapter Regular Meeting
DESCRIPTION:
URL:https://wp.ridemolay.org/event/fidelity-chapter-regular-meeting/2024-05-24/
LOCATION:Doric Masonic Center\, 1237 Reservoir Ave\, Cranston\, 02920\, United States
END:VEVENT
BEGIN:VEVENT
DTSTART;TZID=UTC:20240426T190000
DTEND;TZID=UTC:20240426T210000
DTSTAMP:20260421T160635
CREATED:20230929T125809Z
LAST-MODIFIED:20230929T125809Z
UID:10000012-1714158000-1714165200@wp.ridemolay.org
SUMMARY:Fidelity Chapter Regular Meeting
DESCRIPTION:
URL:https://wp.ridemolay.org/event/fidelity-chapter-regular-meeting/2024-04-26/
LOCATION:Doric Masonic Center\, 1237 Reservoir Ave\, Cranston\, 02920\, United States
END:VEVENT
BEGIN:VEVENT
DTSTART;TZID=UTC:20240322T190000
DTEND;TZID=UTC:20240322T210000
DTSTAMP:20260421T160635
CREATED:20230929T125809Z
LAST-MODIFIED:20230929T125809Z
UID:10000011-1711134000-1711141200@wp.ridemolay.org
SUMMARY:Fidelity Chapter Regular Meeting
DESCRIPTION:
URL:https://wp.ridemolay.org/event/fidelity-chapter-regular-meeting/2024-03-22/
LOCATION:Doric Masonic Center\, 1237 Reservoir Ave\, Cranston\, 02920\, United States
END:VEVENT
BEGIN:VEVENT
DTSTART;TZID=UTC:20240223T190000
DTEND;TZID=UTC:20240223T210000
DTSTAMP:20260421T160635
CREATED:20230929T125809Z
LAST-MODIFIED:20230929T125809Z
UID:10000010-1708714800-1708722000@wp.ridemolay.org
SUMMARY:Fidelity Chapter Regular Meeting
DESCRIPTION:
URL:https://wp.ridemolay.org/event/fidelity-chapter-regular-meeting/2024-02-23/
LOCATION:Doric Masonic Center\, 1237 Reservoir Ave\, Cranston\, 02920\, United States
END:VEVENT
BEGIN:VEVENT
DTSTART;TZID=UTC:20240126T190000
DTEND;TZID=UTC:20240126T210000
DTSTAMP:20260421T160635
CREATED:20230929T125809Z
LAST-MODIFIED:20230929T125809Z
UID:10000009-1706295600-1706302800@wp.ridemolay.org
SUMMARY:Fidelity Chapter Regular Meeting
DESCRIPTION:
URL:https://wp.ridemolay.org/event/fidelity-chapter-regular-meeting/2024-01-26/
LOCATION:Doric Masonic Center\, 1237 Reservoir Ave\, Cranston\, 02920\, United States
END:VEVENT
BEGIN:VEVENT
DTSTART;TZID=UTC:20231222T190000
DTEND;TZID=UTC:20231222T210000
DTSTAMP:20260421T160635
CREATED:20230929T125809Z
LAST-MODIFIED:20230929T125809Z
UID:10000008-1703271600-1703278800@wp.ridemolay.org
SUMMARY:Fidelity Chapter Regular Meeting
DESCRIPTION:
URL:https://wp.ridemolay.org/event/fidelity-chapter-regular-meeting/2023-12-22/
LOCATION:Doric Masonic Center\, 1237 Reservoir Ave\, Cranston\, 02920\, United States
END:VEVENT
BEGIN:VEVENT
DTSTART;TZID=UTC:20231124T190000
DTEND;TZID=UTC:20231124T210000
DTSTAMP:20260421T160635
CREATED:20230929T125809Z
LAST-MODIFIED:20230929T125809Z
UID:10000007-1700852400-1700859600@wp.ridemolay.org
SUMMARY:Fidelity Chapter Regular Meeting
DESCRIPTION:
URL:https://wp.ridemolay.org/event/fidelity-chapter-regular-meeting/2023-11-24/
LOCATION:Doric Masonic Center\, 1237 Reservoir Ave\, Cranston\, 02920\, United States
END:VEVENT
BEGIN:VEVENT
DTSTART;TZID=UTC:20231119T110000
DTEND;TZID=UTC:20231119T160000
DTSTAMP:20260421T160635
CREATED:20230929T122748Z
LAST-MODIFIED:20230929T122748Z
UID:10000004-1700391600-1700409600@wp.ridemolay.org
SUMMARY:Legion of Honor Investiture
DESCRIPTION:Rhode Island Preceptory\nLegion of Honor\n\nYou are hereby requested to attend\nthe\nLegion of Honor Investiture\nto be held on \nNovember 19th 2023 \nat \nDoric Masonic Center\n1237 Reservoir Ave.\nCranston RI \nThe Investiture will begin at 11:00AM for private obligation and the Public Investiture will begin promptly at 12:00PM.\nLuncheon to follow immediately after. \nPlease come out and witness this beautiful ceremony where these deserving men are invested with the highest honor within the gift of DeMolay.
URL:https://wp.ridemolay.org/event/legion-of-honor-investiture/
LOCATION:Doric Masonic Center\, 1237 Reservoir Ave\, Cranston\, 02920\, United States
END:VEVENT
END:VCALENDAR